BEGIN:VCALENDAR
VERSION:2.0
PRODID:-//ChurchNtheHood - ECPv6.15.20//NONSGML v1.0//EN
CALSCALE:GREGORIAN
METHOD:PUBLISH
X-ORIGINAL-URL:https://churchnthehood.org
X-WR-CALDESC:Events for ChurchNtheHood
REFRESH-INTERVAL;VALUE=DURATION:PT1H
X-Robots-Tag:noindex
X-PUBLISHED-TTL:PT1H
BEGIN:VTIMEZONE
TZID:UTC
BEGIN:STANDARD
TZOFFSETFROM:+0000
TZOFFSETTO:+0000
TZNAME:UTC
DTSTART:20150101T000000
END:STANDARD
END:VTIMEZONE
BEGIN:VEVENT
DTSTART;TZID=UTC:20171217T100000
DTEND;TZID=UTC:20171217T110000
DTSTAMP:20260423T121500
CREATED:20171218T021922Z
LAST-MODIFIED:20171218T022853Z
UID:484-1513504800-1513508400@churchnthehood.org
SUMMARY:First United Methodist Church of Oneonta\, NY
DESCRIPTION:What a Beautiful Service Today at First United Methodist Church of Oneonta\, NY!!! Pastor Teressa Sivers & Congregation\, It was an Absolute Pleasure to Fellowship\, in your words\, as Your Hip Hop Angel! As Your Ministry Celebrates Angels Among Us! Shining the Light on Angels aka Messengers which so coincides with Us being Spiritual Beings having a Human Experience! It was an Honor & Privilege to Share GOD’s Words of Comfort & Empowerment! To Challenge Us To Hold on and Share That Gift that Has been Concieved by The Holy Spirit in Us\, with proof by our one fingerprint in the universe\, that Like Baby JESUS\, Mary & Joseph\, No one can do\,  what GOD has Divinely Appointed Us as Individuals or as a Collective to do! So We must as James Brown Once said – Get Uppa\, Get On Up! Regardless of Age and do it!  Pastor Teressa Sivers and Congregants\, which included the Beautifully\, inquiring Minds of the Children\, You reminded Us All\, to Live with #MoreJoy & Remember #DoNotBeAfraid… \nPrayers\, Peace\, Love & Progress!!!\nRev. LaDana Clark aka LADYJAM
URL:https://churchnthehood.org/event/first-united-methodist-church-oneonta-ny/
CATEGORIES:Ministry
ATTACH;FMTTYPE=image/jpeg:https://churchnthehood.org/wp-content/uploads/2017/12/wp-1513544480255.jpg
END:VEVENT
BEGIN:VEVENT
DTSTART;TZID=UTC:20171212T190000
DTEND;TZID=UTC:20171212T210000
DTSTAMP:20260423T121500
CREATED:20171218T023536Z
LAST-MODIFIED:20171218T024030Z
UID:491-1513105200-1513112400@churchnthehood.org
SUMMARY:SUNY ONEONTA...TEST TIME TLC!!!
DESCRIPTION:
URL:https://churchnthehood.org/event/suny-oneonta-test-time-tlc/
CATEGORIES:Outreach
ATTACH;FMTTYPE=image/jpeg:https://churchnthehood.org/wp-content/uploads/2017/12/wp-1513012958325.jpg
END:VEVENT
BEGIN:VEVENT
DTSTART;TZID=UTC:20170116T190000
DTEND;TZID=UTC:20170116T203000
DTSTAMP:20260423T121500
CREATED:20170226T213704Z
LAST-MODIFIED:20170226T213755Z
UID:399-1484593200-1484598600@churchnthehood.org
SUMMARY:"MLK" Day!!! @ First Presbyterian Church\, Cooperstown\, New York
DESCRIPTION:
URL:https://churchnthehood.org/event/mlk-day-first-presbyterian-church-cooperstown-new-york/
LOCATION:First Presbyterian Church\, 25 Church Street\, Cooperstown\, NY\, United States
END:VEVENT
BEGIN:VEVENT
DTSTART;TZID=UTC:20170115T104500
DTEND;TZID=UTC:20170115T120000
DTSTAMP:20260423T121500
CREATED:20170226T211752Z
LAST-MODIFIED:20170226T212214Z
UID:393-1484477100-1484481600@churchnthehood.org
SUMMARY:Rev. LaDana Clark - Key Note Speaker...Cooperstown\, New York (USA)
DESCRIPTION:
URL:https://churchnthehood.org/event/rev-ladana-clark-key-note-speaker-cooperstown-new-york-usa/
LOCATION:First Presbyterian Church\, 25 Church Street\, Cooperstown\, NY\, United States
END:VEVENT
BEGIN:VEVENT
DTSTART;VALUE=DATE:20160717
DTEND;VALUE=DATE:20160718
DTSTAMP:20260423T121500
CREATED:20160717T103337Z
LAST-MODIFIED:20160717T103337Z
UID:363-1468713600-1468799999@churchnthehood.org
SUMMARY:Newark Gay Pride 2016!!!
DESCRIPTION:Shout Out To Newark Pride 2016 –\nPlanning Takes A Lot of Work – GOD BLESS YOU ALL FOR YOUR MANY EFFORTS!!!\nTo the Community – See You Tomorrow 7.17.16 – Newark NJ & Surrounding Areas!!!\nThose who want a Diverse\, Unified\, Spiritual Service at 10am – Come to Unity Fellowship Church NewArk located in The Historic Newark Symphony Hall! Where Our Pastors\, Janyce Jackson Jones & Elder Kevin Taylor will in Fact Let GOD Work!!! Then Put on Your walking  shoes and Join “The Unity Walk” with Us From Newark City Hall To Military Park!\nAt 1pm – as I take the Stage to Bless The Mic With My New Single\, I will be looking to Show & Share Love With & To as Many People as Possible!!! Prayers\, Peace & Progress!!!\n@TheREVLC aka LADYJAM\nBlack\, Lesbian\, Christian\, Rapper\, Singer\, Songwriter On A Mission To –\nStop The Hate & Start The Healing!!!\nPlease Share & Spread The Word!\nThank You!
URL:https://churchnthehood.org/event/newark-gay-pride-2016/
LOCATION:#1Newark Symphony Hall #2 City Hall\, #3 Military Park\, Newark\, NJ\, United States
CATEGORIES:Family,Outreach
END:VEVENT
BEGIN:VEVENT
DTSTART;TZID=UTC:20160625T120000
DTEND;TZID=UTC:20160625T180000
DTSTAMP:20260423T121500
CREATED:20160624T235703Z
LAST-MODIFIED:20160624T235703Z
UID:332-1466856000-1466877600@churchnthehood.org
SUMMARY:Love Thy Neighbor Day
DESCRIPTION:  \nRev. LaDana Clark aka LADYJAM is Looking Forward to Celebrating with Asbury Park and Meeting You There!!!
URL:https://churchnthehood.org/event/love-thy-neighbor-day/
LOCATION:Deliverance Temple Church\, 504 Prospect Avenue\, Prospect Park\, NJ\, 07712\, United States
CATEGORIES:Family,Ministry,Outreach
ATTACH;FMTTYPE=image/png:https://churchnthehood.org/wp-content/uploads/2016/06/Asbury-Park-Love-Thy-Neighbor-Day-Lady-Jam.png
END:VEVENT
END:VCALENDAR